BEGIN:VCALENDAR
VERSION:2.0
PRODID:-//Tukios.com/
BEGIN:VEVENT
UID:584bd61d-b824-4a82-b24d-889404d35605@www.buonfiglio.com
DTSTAMP:20260422T221526Z
DTSTART:20260427T150000Z
DTEND:20260427T151500Z
SUMMARY:Interment
DESCRIPTION:
URL:https://www.buonfiglio.com/obituaries/petrona-romero-de-zavala
LOCATION: 302 Elm Street  Everett MA 02149
GEO:42.4156474;-71.0343401
END:VEVENT
END:VCALENDAR