BEGIN:VCALENDAR
VERSION:2.0
PRODID:-//Tukios.com/
BEGIN:VEVENT
UID:4e459698-2d07-43ba-a45c-f2f18315fbda@www.buonfiglio.com
DTSTAMP:20260422T221359Z
DTSTART:20260427T140000Z
DTEND:20260427T144500Z
SUMMARY:Funeral Service
DESCRIPTION:
URL:https://www.buonfiglio.com/obituaries/petrona-romero-de-zavala
LOCATION: 128 Revere Street  Revere MA 02151
GEO:42.4167555;-71.0040246
END:VEVENT
END:VCALENDAR