BEGIN:VCALENDAR
VERSION:2.0
PRODID:-//Tukios.com/
BEGIN:VEVENT
UID:51e4e27a-1ddc-4ad1-b355-310e0d3545fa@www.buonfiglio.com
DTSTAMP:20260422T221353Z
DTSTART:20260426T210000Z
DTEND:20260427T010000Z
SUMMARY:Visitation
DESCRIPTION:
URL:https://www.buonfiglio.com/obituaries/petrona-romero-de-zavala
LOCATION: 128 Revere Street  Revere MA 02151
GEO:42.4167555;-71.0040246
END:VEVENT
END:VCALENDAR