BEGIN:VCALENDAR
VERSION:2.0
PRODID:-//Tukios.com/
BEGIN:VEVENT
UID:d0ce2d35-8deb-452f-a411-12da0e96d9f7@www.buonfiglio.com
DTSTAMP:20260423T082723Z
DTSTART:20260424T161500Z
DTEND:20260424T170000Z
SUMMARY:Graveside Service
DESCRIPTION:
URL:https://www.buonfiglio.com/obituaries/lawrence-carifio
LOCATION: Connery Avenue  Bourne MA 02542
GEO:41.6720654;-70.5703789
END:VEVENT
END:VCALENDAR