BEGIN:VCALENDAR
VERSION:2.0
PRODID:-//Tukios.com/
BEGIN:VEVENT
UID:53e5c625-facd-42b9-9b61-9de980784605@www.buonfiglio.com
DTSTAMP:20260422T235541Z
DTSTART:20260425T161500Z
DTEND:20260425T171500Z
SUMMARY:Interment
DESCRIPTION:
URL:https://www.buonfiglio.com/obituaries/joseph-bruno-2026
LOCATION: 302 Elm Street  Everett MA 02149
GEO:42.4156474;-71.0343401
END:VEVENT
END:VCALENDAR