BEGIN:VCALENDAR
VERSION:2.0
PRODID:-//Tukios.com/
BEGIN:VEVENT
UID:675d6848-5fbf-4748-b9e2-808fc6603984@www.buonfiglio.com
DTSTAMP:20260422T235830Z
DTSTART:20260425T153000Z
DTEND:20260425T163000Z
SUMMARY:Prayer Service
DESCRIPTION:
URL:https://www.buonfiglio.com/obituaries/joseph-bruno-2026
LOCATION:Buonfiglio Funeral Home 128 Revere Street  Revere MA 02151
GEO:42.4167555;-71.0040246
END:VEVENT
END:VCALENDAR