BEGIN:VCALENDAR
VERSION:2.0
PRODID:-//Tukios.com/
BEGIN:VEVENT
UID:9610fb56-d22c-43c4-9cb2-93308e9c4124@www.buonfiglio.com
DTSTAMP:20260422T235758Z
DTSTART:20260425T143000Z
DTEND:20260425T153000Z
SUMMARY:Funeral Service
DESCRIPTION:
URL:https://www.buonfiglio.com/obituaries/joseph-bruno-2026
LOCATION:Buonfiglio Funeral Home 128 Revere Street  Revere MA 02151
GEO:42.4167555;-71.0040246
END:VEVENT
END:VCALENDAR