BEGIN:VCALENDAR
VERSION:2.0
PRODID:-//Tukios.com/
BEGIN:VEVENT
UID:dff35e04-6414-456b-a2bc-30fda3fcca6a@www.buonfiglio.com
DTSTAMP:20260422T235738Z
DTSTART:20260424T200000Z
DTEND:20260425T000000Z
SUMMARY:Visitation
DESCRIPTION:
URL:https://www.buonfiglio.com/obituaries/joseph-bruno-2026
LOCATION:Buonfiglio Funeral Home 128 Revere Street  Revere MA 02151
GEO:42.4167555;-71.0040246
END:VEVENT
END:VCALENDAR