BEGIN:VCALENDAR
VERSION:2.0
PRODID:-//Tukios.com/
BEGIN:VEVENT
UID:29fe2e52-0639-4320-9977-2ecfcd2c471a@www.buonfiglio.com
DTSTAMP:20260425T222719Z
DTSTART:20260429T171500Z
DTEND:20260429T181500Z
SUMMARY:Burial
DESCRIPTION:
URL:https://www.buonfiglio.com/obituaries/george-tentindo
LOCATION: 302 Elm Street  Everett MA 02149
GEO:42.4156474;-71.0343401
END:VEVENT
END:VCALENDAR