BEGIN:VCALENDAR
VERSION:2.0
PRODID:-//Tukios.com/
BEGIN:VEVENT
UID:bc2f23b3-a0d2-446f-a55e-a937ddc7ac45@www.buonfiglio.com
DTSTAMP:20260425T223216Z
DTSTART:20260429T160000Z
DTEND:20260429T170000Z
SUMMARY:Mass
DESCRIPTION:
URL:https://www.buonfiglio.com/obituaries/george-tentindo
LOCATION: 250 Revere St  Revere MA 02151
GEO:42.4183056;-71.0012095
END:VEVENT
END:VCALENDAR