BEGIN:VCALENDAR
VERSION:2.0
PRODID:-//Tukios.com/
BEGIN:VEVENT
UID:02d129f0-847a-4eb4-9c52-60767369bb3c@www.buonfiglio.com
DTSTAMP:20260425T222909Z
DTSTART:20260429T143000Z
DTEND:20260429T153000Z
SUMMARY:Funeral Service
DESCRIPTION:
URL:https://www.buonfiglio.com/obituaries/george-tentindo
LOCATION: 128 Revere Street  Revere MA 02151
GEO:42.4167555;-71.0040246
END:VEVENT
END:VCALENDAR